BEGIN:VCALENDAR
VERSION:2.0
PRODID:-//ChamberMaster//Event Calendar 2.0//EN
METHOD:PUBLISH
X-PUBLISHED-TTL:P3D
REFRESH-INTERVAL:P3D
CALSCALE:GREGORIAN
BEGIN:VEVENT
DTSTART:20260619T230000Z
DTEND:20260907T000000Z
X-MICROSOFT-CDO-ALLDAYEVENT:FALSE
SUMMARY:2026 Rotary Park Free Music in the Park
DESCRIPTION:Come enjoy an evening of music performed by talented\, local musicians. Bring a blanket or chair as seating is limited.
X-ALT-DESC;FMTTYPE=text/html:Come enjoy an evening of music performed by talented\, local musicians. Bring a blanket or chair as seating is limited.
LOCATION:Rotary Park Lafayette St Park New Jersey 08204
UID:e.1667.192490
SEQUENCE:3
DTSTAMP:20260420T112428Z
URL:http://business.capemaycountychamber.com/events/details/2026-rotary-park-free-music-in-the-park-192490
END:VEVENT

END:VCALENDAR
