BEGIN:VCALENDAR
VERSION:2.0
PRODID:-//ChamberMaster//Event Calendar 2.0//EN
METHOD:PUBLISH
X-PUBLISHED-TTL:P3D
REFRESH-INTERVAL:P3D
CALSCALE:GREGORIAN
BEGIN:VEVENT
DTSTART:20260729T230000Z
DTEND:20260730T000000Z
X-MICROSOFT-CDO-ALLDAYEVENT:FALSE
SUMMARY:93rd Annual Coronation of Queen Maysea
DESCRIPTION:Applicants must be registered by July 8th Applications available online Interviews will be scheduled for July 17th beginning at 10Am at Cape May Convention Hall
X-ALT-DESC;FMTTYPE=text/html:Applicants must be registered by July 8th Applications available online Interviews will be scheduled for July 17th beginning at 10Am at Cape May Convention Hall
LOCATION:Cape May Convention Hall 714 Beach Avenue Cape May NJ 08204
UID:e.1667.192494
SEQUENCE:3
DTSTAMP:20260420T112259Z
URL:http://business.capemaycountychamber.com/events/details/93rd-annual-coronation-of-queen-maysea-192494
END:VEVENT

END:VCALENDAR
