BEGIN:VCALENDAR
VERSION:2.0
PRODID:-//ChamberMaster//Event Calendar 2.0//EN
METHOD:PUBLISH
X-PUBLISHED-TTL:P3D
REFRESH-INTERVAL:P3D
CALSCALE:GREGORIAN
BEGIN:VEVENT
DTSTART;VALUE=DATE:20200620
DTEND;VALUE=DATE:20200621
TRANSP:TRANSPARENT
X-MICROSOFT-CDO-ALLDAYEVENT:TRUE
SUMMARY:Sea Goal Cup
DESCRIPTION:
X-ALT-DESC;FMTTYPE=text/html:
LOCATION:Dealy Field Sea Isle CIty
UID:e.1667.186991
SEQUENCE:3
DTSTAMP:20260421T082749Z
URL:http://business.capemaycountychamber.com/events/details/sea-goal-cup-186991
END:VEVENT

END:VCALENDAR
